Package: CircSeqAlignTk Version: 1.9.0 Command: /Library/Frameworks/R.framework/Resources/bin/R CMD INSTALL CircSeqAlignTk StartedAt: 2025-02-09 15:16:00 -0500 (Sun, 09 Feb 2025) EndedAt: 2025-02-09 15:16:18 -0500 (Sun, 09 Feb 2025) EllapsedTime: 17.8 seconds RetCode: 0 Status: OK