Package: CircSeqAlignTk Version: 1.9.0 Command: /home/biocbuild/R/R/bin/R CMD build --keep-empty-dirs --no-resave-data CircSeqAlignTk StartedAt: 2025-01-28 21:52:03 -0000 (Tue, 28 Jan 2025) EndedAt: 2025-01-28 21:56:47 -0000 (Tue, 28 Jan 2025) EllapsedTime: 283.4 seconds RetCode: 0 Status: OK PackageFile: CircSeqAlignTk_1.9.0.tar.gz PackageFileSize: 1.57 MiB