Package: CircSeqAlignTk Version: 1.9.0 Command: rm -rf CircSeqAlignTk.buildbin-libdir && mkdir CircSeqAlignTk.buildbin-libdir && /Users/biocbuild/BBS/utils/build-universal.sh CircSeqAlignTk_1.9.0.tar.gz /Library/Frameworks/R.framework/Resources/bin/R CircSeqAlignTk.buildbin-libdir StartedAt: 2025-02-10 00:46:45 -0500 (Mon, 10 Feb 2025) EndedAt: 2025-02-10 00:47:48 -0500 (Mon, 10 Feb 2025) EllapsedTime: 62.5 seconds RetCode: 0 Status: OK PackageFile: CircSeqAlignTk_1.9.0.tgz PackageFileSize: 1.988 MiB