Package: CircSeqAlignTk Version: 1.9.0 Command: /Library/Frameworks/R.framework/Resources/bin/R CMD INSTALL CircSeqAlignTk StartedAt: 2025-02-09 15:26:05 -0500 (Sun, 09 Feb 2025) EndedAt: 2025-02-09 15:27:04 -0500 (Sun, 09 Feb 2025) EllapsedTime: 59.2 seconds RetCode: 0 Status: OK