Package: CircSeqAlignTk Version: 1.9.0 Command: /home/biocbuild/bbs-3.21-bioc/R/bin/R CMD check --install=check:CircSeqAlignTk.install-out.txt --library=/home/biocbuild/bbs-3.21-bioc/R/site-library --timings CircSeqAlignTk_1.9.0.tar.gz StartedAt: 2025-02-09 20:55:45 -0500 (Sun, 09 Feb 2025) EndedAt: 2025-02-09 21:03:35 -0500 (Sun, 09 Feb 2025) EllapsedTime: 469.6 seconds RetCode: 0 Status: OK CheckDir: CircSeqAlignTk.Rcheck Warnings: 0