Package: CircSeqAlignTk Version: 1.9.0 Command: rm -rf CircSeqAlignTk.buildbin-libdir && mkdir CircSeqAlignTk.buildbin-libdir && E:\biocbuild\bbs-3.21-bioc\R\bin\R.exe CMD INSTALL --build --library=CircSeqAlignTk.buildbin-libdir CircSeqAlignTk_1.9.0.tar.gz StartedAt: 2025-02-05 07:39:14 -0500 (Wed, 05 Feb 2025) EndedAt: 2025-02-05 07:40:52 -0500 (Wed, 05 Feb 2025) EllapsedTime: 98.2 seconds RetCode: 0 Status: OK PackageFile: CircSeqAlignTk_1.9.0.zip PackageFileSize: 1.504 MiB