Package: CircSeqAlignTk Version: 1.9.0 Command: chmod a+r CircSeqAlignTk -R && E:\biocbuild\bbs-3.21-bioc\R\bin\R.exe CMD build --keep-empty-dirs --no-resave-data CircSeqAlignTk StartedAt: 2025-02-04 17:49:56 -0500 (Tue, 04 Feb 2025) EndedAt: 2025-02-04 17:52:45 -0500 (Tue, 04 Feb 2025) EllapsedTime: 168.6 seconds RetCode: 0 Status: OK PackageFile: CircSeqAlignTk_1.9.0.tar.gz PackageFileSize: 1.563 MiB