Package: ClassifyR Version: 3.11.7 Maintainer: Dario Strbenac MaintainerEmail: dario.strbenac at sydney.edu.au git_url: https://git.bioconductor.org/packages/ClassifyR git_branch: devel git_last_commit: bcaff76 git_last_commit_date: 2025-01-30 23:15:04 -0500 (Thu, 30 Jan 2025)