Package: ClassifyR Version: 3.11.7 Command: /Library/Frameworks/R.framework/Resources/bin/R CMD build --keep-empty-dirs --no-resave-data ClassifyR StartedAt: 2025-02-09 15:54:24 -0500 (Sun, 09 Feb 2025) EndedAt: 2025-02-09 15:55:01 -0500 (Sun, 09 Feb 2025) EllapsedTime: 37.4 seconds RetCode: 0 Status: OK PackageFile: ClassifyR_3.11.7.tar.gz PackageFileSize: 2.299 MiB