Package: ClassifyR Version: 3.11.4 Command: /home/biocbuild/R/R/bin/R CMD build --keep-empty-dirs --no-resave-data ClassifyR StartedAt: 2025-01-28 21:53:28 -0000 (Tue, 28 Jan 2025) EndedAt: 2025-01-28 21:57:48 -0000 (Tue, 28 Jan 2025) EllapsedTime: 260.1 seconds RetCode: 0 Status: OK PackageFile: ClassifyR_3.11.4.tar.gz PackageFileSize: 1.994 MiB