Package: ClassifyR Version: 3.11.4 Command: /home/biocbuild/R/R/bin/R CMD check --install=check:ClassifyR.install-out.txt --library=/home/biocbuild/R/R/site-library --no-vignettes --timings ClassifyR_3.11.4.tar.gz StartedAt: 2025-01-25 05:30:44 -0000 (Sat, 25 Jan 2025) EndedAt: 2025-01-25 05:39:27 -0000 (Sat, 25 Jan 2025) EllapsedTime: 523.3 seconds RetCode: 0 Status: OK CheckDir: ClassifyR.Rcheck Warnings: 0