Package: ClassifyR Version: 3.11.4 Command: /home/biocbuild/R/R/bin/R CMD INSTALL ClassifyR StartedAt: 2025-01-29 20:33:51 -0000 (Wed, 29 Jan 2025) EndedAt: 2025-01-29 20:34:38 -0000 (Wed, 29 Jan 2025) EllapsedTime: 46.7 seconds RetCode: 0 Status: OK