Package: ClassifyR Version: 3.11.7 Command: /Library/Frameworks/R.framework/Resources/bin/R CMD build --keep-empty-dirs --no-resave-data ClassifyR StartedAt: 2025-02-03 16:19:40 -0500 (Mon, 03 Feb 2025) EndedAt: 2025-02-03 16:21:25 -0500 (Mon, 03 Feb 2025) EllapsedTime: 104.9 seconds RetCode: 0 Status: OK PackageFile: ClassifyR_3.11.7.tar.gz PackageFileSize: 2.298 MiB