Package: ClassifyR Version: 3.11.7 Command: /home/biocbuild/bbs-3.21-bioc/R/bin/R CMD build --keep-empty-dirs --no-resave-data ClassifyR StartedAt: 2025-02-09 16:40:01 -0500 (Sun, 09 Feb 2025) EndedAt: 2025-02-09 16:41:41 -0500 (Sun, 09 Feb 2025) EllapsedTime: 100.1 seconds RetCode: 0 Status: OK PackageFile: ClassifyR_3.11.7.tar.gz PackageFileSize: 2.413 MiB