Package: ClassifyR Version: 3.11.7 Command: /home/biocbuild/bbs-3.21-bioc/R/bin/R CMD check --install=check:ClassifyR.install-out.txt --library=/home/biocbuild/bbs-3.21-bioc/R/site-library --timings ClassifyR_3.11.7.tar.gz StartedAt: 2025-02-09 20:56:39 -0500 (Sun, 09 Feb 2025) EndedAt: 2025-02-09 21:02:42 -0500 (Sun, 09 Feb 2025) EllapsedTime: 362.4 seconds RetCode: 0 Status: WARNINGS CheckDir: ClassifyR.Rcheck Warnings: 1