Package: ClassifyR Version: 3.11.7 Command: /home/biocbuild/bbs-3.21-bioc/R/bin/R CMD INSTALL ClassifyR StartedAt: 2025-02-09 15:27:39 -0500 (Sun, 09 Feb 2025) EndedAt: 2025-02-09 15:28:14 -0500 (Sun, 09 Feb 2025) EllapsedTime: 34.8 seconds RetCode: 0 Status: OK