Package: ClassifyR Version: 3.11.7 Command: chmod a+r ClassifyR -R && E:\biocbuild\bbs-3.21-bioc\R\bin\R.exe CMD build --keep-empty-dirs --no-resave-data ClassifyR StartedAt: 2025-02-09 17:52:30 -0500 (Sun, 09 Feb 2025) EndedAt: 2025-02-09 17:57:27 -0500 (Sun, 09 Feb 2025) EllapsedTime: 296.9 seconds RetCode: 0 Status: OK PackageFile: ClassifyR_3.11.7.tar.gz PackageFileSize: 1.938 MiB