Package: ClassifyR Version: 3.11.7 Command: E:\biocbuild\bbs-3.21-bioc\R\bin\R.exe CMD check --no-multiarch --install=check:ClassifyR.install-out.txt --library=E:\biocbuild\bbs-3.21-bioc\R\library --no-vignettes --timings ClassifyR_3.11.7.tar.gz StartedAt: 2025-02-04 00:08:46 -0500 (Tue, 04 Feb 2025) EndedAt: 2025-02-04 00:15:31 -0500 (Tue, 04 Feb 2025) EllapsedTime: 405.0 seconds RetCode: 0 Status: WARNINGS CheckDir: ClassifyR.Rcheck Warnings: 1