Package: ClassifyR Version: 3.11.7 Command: E:\biocbuild\bbs-3.21-bioc\R\bin\R.exe CMD INSTALL ClassifyR StartedAt: 2025-02-03 16:33:42 -0500 (Mon, 03 Feb 2025) EndedAt: 2025-02-03 16:34:58 -0500 (Mon, 03 Feb 2025) EllapsedTime: 75.9 seconds RetCode: 0 Status: OK