Package: Clomial Version: 1.43.0 Command: /home/biocbuild/R/R/bin/R CMD build --keep-empty-dirs --no-resave-data Clomial StartedAt: 2025-01-28 21:56:00 -0000 (Tue, 28 Jan 2025) EndedAt: 2025-01-28 21:56:22 -0000 (Tue, 28 Jan 2025) EllapsedTime: 22.0 seconds RetCode: 0 Status: OK PackageFile: Clomial_1.43.0.tar.gz PackageFileSize: 1.45 MiB