Package: Clomial Version: 1.43.0 Command: /home/biocbuild/R/R/bin/R CMD INSTALL Clomial StartedAt: 2025-01-29 19:32:56 -0000 (Wed, 29 Jan 2025) EndedAt: 2025-01-29 19:33:18 -0000 (Wed, 29 Jan 2025) EllapsedTime: 21.8 seconds RetCode: 0 Status: OK