Package: Clomial Version: 1.43.0 Command: /Library/Frameworks/R.framework/Resources/bin/R CMD build --keep-empty-dirs --no-resave-data Clomial StartedAt: 2025-02-12 16:15:53 -0500 (Wed, 12 Feb 2025) EndedAt: 2025-02-12 16:16:13 -0500 (Wed, 12 Feb 2025) EllapsedTime: 20.6 seconds RetCode: 0 Status: OK PackageFile: Clomial_1.43.0.tar.gz PackageFileSize: 1.46 MiB