Package: Clomial Version: 1.43.0 Command: /Library/Frameworks/R.framework/Resources/bin/R CMD INSTALL Clomial StartedAt: 2025-02-12 15:05:46 -0500 (Wed, 12 Feb 2025) EndedAt: 2025-02-12 15:06:14 -0500 (Wed, 12 Feb 2025) EllapsedTime: 28.0 seconds RetCode: 0 Status: OK