Package: Clomial Version: 1.43.0 Command: /home/biocbuild/bbs-3.21-bioc/R/bin/R CMD build --keep-empty-dirs --no-resave-data Clomial StartedAt: 2025-02-09 16:41:03 -0500 (Sun, 09 Feb 2025) EndedAt: 2025-02-09 16:41:17 -0500 (Sun, 09 Feb 2025) EllapsedTime: 14.0 seconds RetCode: 0 Status: OK PackageFile: Clomial_1.43.0.tar.gz PackageFileSize: 1.461 MiB