Package: Clomial Version: 1.43.0 Command: chmod a+r Clomial -R && E:\biocbuild\bbs-3.21-bioc\R\bin\R.exe CMD build --keep-empty-dirs --no-resave-data Clomial StartedAt: 2025-02-09 17:54:24 -0500 (Sun, 09 Feb 2025) EndedAt: 2025-02-09 17:54:53 -0500 (Sun, 09 Feb 2025) EllapsedTime: 29.9 seconds RetCode: 0 Status: OK PackageFile: Clomial_1.43.0.tar.gz PackageFileSize: 1.353 MiB