Package: ClusterFoldSimilarity Version: 1.3.0 Command: /Library/Frameworks/R.framework/Resources/bin/R CMD build --keep-empty-dirs --no-resave-data ClusterFoldSimilarity StartedAt: 2025-02-09 15:55:28 -0500 (Sun, 09 Feb 2025) EndedAt: 2025-02-09 15:58:57 -0500 (Sun, 09 Feb 2025) EllapsedTime: 209.5 seconds RetCode: 0 Status: OK PackageFile: ClusterFoldSimilarity_1.3.0.tar.gz PackageFileSize: 1.674 MiB