Package: ClusterFoldSimilarity Version: 1.3.0 Command: /Library/Frameworks/R.framework/Resources/bin/R CMD check --install=check:ClusterFoldSimilarity.install-out.txt --library=/Library/Frameworks/R.framework/Resources/library --no-vignettes --timings ClusterFoldSimilarity_1.3.0.tar.gz StartedAt: 2025-02-09 18:34:06 -0500 (Sun, 09 Feb 2025) EndedAt: 2025-02-09 18:35:42 -0500 (Sun, 09 Feb 2025) EllapsedTime: 95.2 seconds RetCode: 0 Status: WARNINGS CheckDir: ClusterFoldSimilarity.Rcheck Warnings: 1