Package: ClusterFoldSimilarity Version: 1.3.0 Command: /Library/Frameworks/R.framework/Resources/bin/R CMD INSTALL ClusterFoldSimilarity StartedAt: 2025-02-09 15:22:44 -0500 (Sun, 09 Feb 2025) EndedAt: 2025-02-09 15:22:58 -0500 (Sun, 09 Feb 2025) EllapsedTime: 13.8 seconds RetCode: 0 Status: OK