Package: ClusterFoldSimilarity Version: 1.3.0 Command: rm -rf ClusterFoldSimilarity.buildbin-libdir && mkdir ClusterFoldSimilarity.buildbin-libdir && /Users/biocbuild/BBS/utils/build-universal.sh ClusterFoldSimilarity_1.3.0.tar.gz /Library/Frameworks/R.framework/Resources/bin/R ClusterFoldSimilarity.buildbin-libdir StartedAt: 2025-02-10 00:47:07 -0500 (Mon, 10 Feb 2025) EndedAt: 2025-02-10 00:47:59 -0500 (Mon, 10 Feb 2025) EllapsedTime: 52.1 seconds RetCode: 0 Status: OK PackageFile: ClusterFoldSimilarity_1.3.0.tgz PackageFileSize: 1.672 MiB