Package: ClusterFoldSimilarity Version: 1.3.0 Command: /Library/Frameworks/R.framework/Resources/bin/R CMD build --keep-empty-dirs --no-resave-data ClusterFoldSimilarity StartedAt: 2025-02-09 16:18:38 -0500 (Sun, 09 Feb 2025) EndedAt: 2025-02-09 16:27:39 -0500 (Sun, 09 Feb 2025) EllapsedTime: 540.8 seconds RetCode: 0 Status: OK PackageFile: ClusterFoldSimilarity_1.3.0.tar.gz PackageFileSize: 1.644 MiB