Package: ClusterFoldSimilarity Version: 1.3.0 Command: /home/biocbuild/bbs-3.21-bioc/R/bin/R CMD build --keep-empty-dirs --no-resave-data ClusterFoldSimilarity StartedAt: 2025-02-09 16:41:33 -0500 (Sun, 09 Feb 2025) EndedAt: 2025-02-09 16:49:37 -0500 (Sun, 09 Feb 2025) EllapsedTime: 484.6 seconds RetCode: 0 Status: OK PackageFile: ClusterFoldSimilarity_1.3.0.tar.gz PackageFileSize: 1.564 MiB