Package: ClusterFoldSimilarity Version: 1.3.0 Command: /home/biocbuild/bbs-3.21-bioc/R/bin/R CMD INSTALL ClusterFoldSimilarity StartedAt: 2025-02-09 15:21:57 -0500 (Sun, 09 Feb 2025) EndedAt: 2025-02-09 15:22:33 -0500 (Sun, 09 Feb 2025) EllapsedTime: 35.8 seconds RetCode: 0 Status: OK