Package: ClusterFoldSimilarity Version: 1.3.0 Command: rm -rf ClusterFoldSimilarity.buildbin-libdir && mkdir ClusterFoldSimilarity.buildbin-libdir && E:\biocbuild\bbs-3.21-bioc\R\bin\R.exe CMD INSTALL --build --library=ClusterFoldSimilarity.buildbin-libdir ClusterFoldSimilarity_1.3.0.tar.gz StartedAt: 2025-02-10 07:28:41 -0500 (Mon, 10 Feb 2025) EndedAt: 2025-02-10 07:30:40 -0500 (Mon, 10 Feb 2025) EllapsedTime: 119.3 seconds RetCode: 0 Status: OK PackageFile: ClusterFoldSimilarity_1.3.0.zip PackageFileSize: 890.6 KiB