Package: ClusterFoldSimilarity Version: 1.3.0 Command: E:\biocbuild\bbs-3.21-bioc\R\bin\R.exe CMD check --no-multiarch --install=check:ClusterFoldSimilarity.install-out.txt --library=E:\biocbuild\bbs-3.21-bioc\R\library --no-vignettes --timings ClusterFoldSimilarity_1.3.0.tar.gz StartedAt: 2025-02-09 23:44:47 -0500 (Sun, 09 Feb 2025) EndedAt: 2025-02-09 23:49:33 -0500 (Sun, 09 Feb 2025) EllapsedTime: 286.4 seconds RetCode: 0 Status: WARNINGS CheckDir: ClusterFoldSimilarity.Rcheck Warnings: 1