Package: ClusterJudge Version: 1.29.1 Maintainer: Adrian Pasculescu MaintainerEmail: a.pasculescu at gmail.com git_url: https://git.bioconductor.org/packages/ClusterJudge git_branch: devel git_last_commit: 4c56470 git_last_commit_date: 2025-01-21 14:16:52 -0500 (Tue, 21 Jan 2025)