Package: ClusterJudge Version: 1.29.1 Command: /Library/Frameworks/R.framework/Resources/bin/R CMD check --install=check:ClusterJudge.install-out.txt --library=/Library/Frameworks/R.framework/Resources/library --no-vignettes --timings ClusterJudge_1.29.1.tar.gz StartedAt: 2025-02-12 18:35:32 -0500 (Wed, 12 Feb 2025) EndedAt: 2025-02-12 18:36:57 -0500 (Wed, 12 Feb 2025) EllapsedTime: 85.0 seconds RetCode: 0 Status: OK CheckDir: ClusterJudge.Rcheck Warnings: 0