Package: ClusterJudge Version: 1.29.1 Command: /home/biocbuild/R/R/bin/R CMD build --keep-empty-dirs --no-resave-data ClusterJudge StartedAt: 2025-01-28 21:56:56 -0000 (Tue, 28 Jan 2025) EndedAt: 2025-01-28 21:58:02 -0000 (Tue, 28 Jan 2025) EllapsedTime: 66.0 seconds RetCode: 0 Status: OK PackageFile: ClusterJudge_1.29.1.tar.gz PackageFileSize: 864 KiB