Package: ClusterJudge Version: 1.29.1 Command: /home/biocbuild/R/R/bin/R CMD INSTALL ClusterJudge StartedAt: 2025-01-29 19:36:20 -0000 (Wed, 29 Jan 2025) EndedAt: 2025-01-29 19:36:42 -0000 (Wed, 29 Jan 2025) EllapsedTime: 22.1 seconds RetCode: 0 Status: OK