Package: ClusterJudge Version: 1.29.1 Command: rm -rf ClusterJudge.buildbin-libdir && mkdir ClusterJudge.buildbin-libdir && /Users/biocbuild/BBS/utils/build-universal.sh ClusterJudge_1.29.1.tar.gz /Library/Frameworks/R.framework/Resources/bin/R ClusterJudge.buildbin-libdir StartedAt: 2025-02-10 00:47:08 -0500 (Mon, 10 Feb 2025) EndedAt: 2025-02-10 00:47:16 -0500 (Mon, 10 Feb 2025) EllapsedTime: 8.2 seconds RetCode: 0 Status: OK PackageFile: ClusterJudge_1.29.1.tgz PackageFileSize: 4.393 MiB