Package: ClusterJudge Version: 1.29.1 Command: /home/biocbuild/bbs-3.21-bioc/R/bin/R CMD build --keep-empty-dirs --no-resave-data ClusterJudge StartedAt: 2025-02-09 16:41:37 -0500 (Sun, 09 Feb 2025) EndedAt: 2025-02-09 16:42:21 -0500 (Sun, 09 Feb 2025) EllapsedTime: 44.0 seconds RetCode: 0 Status: OK PackageFile: ClusterJudge_1.29.1.tar.gz PackageFileSize: 942.8 KiB