Package: ClusterJudge Version: 1.29.1 Command: chmod a+r ClusterJudge -R && E:\biocbuild\bbs-3.21-bioc\R\bin\R.exe CMD build --keep-empty-dirs --no-resave-data ClusterJudge StartedAt: 2025-02-09 17:55:09 -0500 (Sun, 09 Feb 2025) EndedAt: 2025-02-09 17:56:21 -0500 (Sun, 09 Feb 2025) EllapsedTime: 72.2 seconds RetCode: 0 Status: OK PackageFile: ClusterJudge_1.29.1.tar.gz PackageFileSize: 845 KiB