Package: ClusterJudge Version: 1.29.1 Command: E:\biocbuild\bbs-3.21-bioc\R\bin\R.exe CMD INSTALL ClusterJudge StartedAt: 2025-02-09 15:29:36 -0500 (Sun, 09 Feb 2025) EndedAt: 2025-02-09 15:29:56 -0500 (Sun, 09 Feb 2025) EllapsedTime: 19.5 seconds RetCode: 0 Status: OK