Package: CoCiteStats Version: 1.79.0 Command: rm -rf CoCiteStats.buildbin-libdir && mkdir CoCiteStats.buildbin-libdir && /Users/biocbuild/BBS/utils/build-universal.sh CoCiteStats_1.79.0.tar.gz /Library/Frameworks/R.framework/Resources/bin/R CoCiteStats.buildbin-libdir StartedAt: 2025-02-04 22:11:51 -0500 (Tue, 04 Feb 2025) EndedAt: 2025-02-04 22:11:57 -0500 (Tue, 04 Feb 2025) EllapsedTime: 6.1 seconds RetCode: 0 Status: OK PackageFile: CoCiteStats_1.79.0.tgz PackageFileSize: 32.8 KiB