Package: CoCiteStats Version: 1.79.0 Command: /Library/Frameworks/R.framework/Resources/bin/R CMD check --install=check:CoCiteStats.install-out.txt --library=/Library/Frameworks/R.framework/Resources/library --no-vignettes --timings CoCiteStats_1.79.0.tar.gz StartedAt: 2025-02-04 18:37:11 -0500 (Tue, 04 Feb 2025) EndedAt: 2025-02-04 18:38:56 -0500 (Tue, 04 Feb 2025) EllapsedTime: 105.2 seconds RetCode: 0 Status: OK CheckDir: CoCiteStats.Rcheck Warnings: 0