Package: CoCiteStats Version: 1.79.0 Command: /Library/Frameworks/R.framework/Resources/bin/R CMD build --keep-empty-dirs --no-resave-data CoCiteStats StartedAt: 2025-02-04 16:17:17 -0500 (Tue, 04 Feb 2025) EndedAt: 2025-02-04 16:17:18 -0500 (Tue, 04 Feb 2025) EllapsedTime: 1.2 seconds RetCode: 0 Status: OK PackageFile: CoCiteStats_1.79.0.tar.gz PackageFileSize: 5.341 KiB