Package: CoCiteStats Version: 1.79.0 Command: /home/biocbuild/bbs-3.21-bioc/R/bin/R CMD INSTALL CoCiteStats StartedAt: 2025-02-04 15:35:27 -0500 (Tue, 04 Feb 2025) EndedAt: 2025-02-04 15:35:40 -0500 (Tue, 04 Feb 2025) EllapsedTime: 13.2 seconds RetCode: 0 Status: OK