Package: CoCiteStats Version: 1.79.0 Command: rm -rf CoCiteStats.buildbin-libdir && mkdir CoCiteStats.buildbin-libdir && E:\biocbuild\bbs-3.21-bioc\R\bin\R.exe CMD INSTALL --build --library=CoCiteStats.buildbin-libdir CoCiteStats_1.79.0.tar.gz StartedAt: 2025-02-05 07:41:16 -0500 (Wed, 05 Feb 2025) EndedAt: 2025-02-05 07:41:37 -0500 (Wed, 05 Feb 2025) EllapsedTime: 21.0 seconds RetCode: 0 Status: OK PackageFile: CoCiteStats_1.79.0.zip PackageFileSize: 35.17 KiB