Package: CoCiteStats Version: 1.79.0 Command: chmod a+r CoCiteStats -R && E:\biocbuild\bbs-3.21-bioc\R\bin\R.exe CMD build --keep-empty-dirs --no-resave-data CoCiteStats StartedAt: 2025-02-04 17:56:08 -0500 (Tue, 04 Feb 2025) EndedAt: 2025-02-04 17:56:11 -0500 (Tue, 04 Feb 2025) EllapsedTime: 2.8 seconds RetCode: 0 Status: OK PackageFile: CoCiteStats_1.79.0.tar.gz PackageFileSize: 5.34 KiB