Package: CoGAPS Version: 3.27.0 Command: /Library/Frameworks/R.framework/Resources/bin/R CMD build --keep-empty-dirs --no-resave-data CoGAPS StartedAt: 2025-02-09 15:56:45 -0500 (Sun, 09 Feb 2025) EndedAt: 2025-02-09 16:02:26 -0500 (Sun, 09 Feb 2025) EllapsedTime: 341.8 seconds RetCode: 0 Status: OK PackageFile: CoGAPS_3.27.0.tar.gz PackageFileSize: 19.9 MiB