Package: CoGAPS Version: 3.27.0 Command: /Library/Frameworks/R.framework/Resources/bin/R CMD INSTALL CoGAPS StartedAt: 2025-02-12 15:21:42 -0500 (Wed, 12 Feb 2025) EndedAt: 2025-02-12 15:22:17 -0500 (Wed, 12 Feb 2025) EllapsedTime: 35.3 seconds RetCode: 0 Status: OK